BEGIN:VCALENDAR
VERSION:2.0
PRODID:-// - ECPv6.0.6.2//NONSGML v1.0//EN
CALSCALE:GREGORIAN
METHOD:PUBLISH
X-ORIGINAL-URL:https://old.kanoeprerov.cz
X-WR-CALDESC:Akce na 
REFRESH-INTERVAL;VALUE=DURATION:PT1H
X-Robots-Tag:noindex
X-PUBLISHED-TTL:PT1H
BEGIN:VTIMEZONE
TZID:Europe/Prague
BEGIN:DAYLIGHT
TZOFFSETFROM:+0100
TZOFFSETTO:+0200
TZNAME:CEST
DTSTART:20180325T010000
END:DAYLIGHT
BEGIN:STANDARD
TZOFFSETFROM:+0200
TZOFFSETTO:+0100
TZNAME:CET
DTSTART:20181028T010000
END:STANDARD
BEGIN:DAYLIGHT
TZOFFSETFROM:+0100
TZOFFSETTO:+0200
TZNAME:CEST
DTSTART:20190331T010000
END:DAYLIGHT
BEGIN:STANDARD
TZOFFSETFROM:+0200
TZOFFSETTO:+0100
TZNAME:CET
DTSTART:20191027T010000
END:STANDARD
END:VTIMEZONE
BEGIN:VEVENT
DTSTART;VALUE=DATE:20191005
DTEND;VALUE=DATE:20191007
DTSTAMP:20260420T003028
CREATED:20190924T110914Z
LAST-MODIFIED:20190924T110914Z
UID:1152-1570233600-1570406399@old.kanoeprerov.cz
SUMMARY:Puchar Śląska Katowice
DESCRIPTION:Poslední závod sezóny v polských Katowicích. \nNominace bude upřesněna
URL:https://old.kanoeprerov.cz/event/puchar-slaska-katowice/
CATEGORIES:ostatní závody
END:VEVENT
BEGIN:VEVENT
DTSTART;VALUE=DATE:20190928
DTEND;VALUE=DATE:20190930
DTSTAMP:20260420T003028
CREATED:20190924T110107Z
LAST-MODIFIED:20190924T110453Z
UID:1148-1569628800-1569801599@old.kanoeprerov.cz
SUMMARY:Velká cena Sparty
DESCRIPTION:Tradiční závody v hlavním městě v areálu pražské Sparty v Braníku\, ukončení domácí závodní sezóny \n\nviazanie lodí vo štvrtok po tréningu\ndoprava rozdelená na dve skupiny: 1. skupina mikrobus\, príspevok 200\,-Kč 2. staršia skupina vlakom\nubytovanie v telocvični\, karimatka + spacák\nstrava vlastná\, sobota obed a večera v podobe meníčok v reštaurácii.\nodjazd mikrobusu z lodenice v piatok o 15hod.\nnávrat v nedelu cca 20hod-21hod.\n\nNominácia benjamínci: Eliška Cigánková\, Veronika Příkopová\, Honza Nemčák\, Vítek Příkopa\, Váňa Adam\, Vičar Josef\, Zahradníček Ondrej\, Jančík Tomáš. \nStaršia skupina podľa záujmu.
URL:https://old.kanoeprerov.cz/event/velka-cena-sparty-2/
LOCATION:Sparta Praha\, U ledáren 80\, Praha 4 - Braník\, 14700
CATEGORIES:ostatní závody
END:VEVENT
BEGIN:VEVENT
DTSTART;VALUE=DATE:20190907
DTEND;VALUE=DATE:20190908
DTSTAMP:20260420T003028
CREATED:20190103T093719Z
LAST-MODIFIED:20190103T093719Z
UID:1069-1567814400-1567900799@old.kanoeprerov.cz
SUMMARY:Černožický kilometr
DESCRIPTION:
URL:https://old.kanoeprerov.cz/event/cernozicky-kilometr-2/
LOCATION:Černožice\, ulice k Loděnici\, Černožice\, 50304
CATEGORIES:ostatní závody
END:VEVENT
BEGIN:VEVENT
DTSTART;VALUE=DATE:20190629
DTEND;VALUE=DATE:20190701
DTSTAMP:20260420T003028
CREATED:20190619T061654Z
LAST-MODIFIED:20190619T061654Z
UID:1123-1561766400-1561939199@old.kanoeprerov.cz
SUMMARY:Trenčianská regata
DESCRIPTION:Tradiční závody se začátkem prázdnin v osvědčené lokalitě v Trenčíně pod hradem Matúše Čáka
URL:https://old.kanoeprerov.cz/event/trencianska-regata/
LOCATION:Trenčín\, Mládežnícka 6777/6\, Trenčín\, 91101\, Slovensko
CATEGORIES:ostatní závody
END:VEVENT
BEGIN:VEVENT
DTSTART;VALUE=DATE:20181109
DTEND;VALUE=DATE:20181112
DTSTAMP:20260420T003028
CREATED:20181105T092126Z
LAST-MODIFIED:20181105T092126Z
UID:997-1541721600-1541980799@old.kanoeprerov.cz
SUMMARY:Turistický víkend
DESCRIPTION:Odjazd\, vlak Přerov v piatok o 14:23. Zraz 14:10!!! \nNávrat vlak Přerov nedela 16:36 \nPátek: \nhttps://mapy.cz/turisticka?planovani-trasy&x=18.7711290&y=49.5302693&z=15&rc=9rRi6xUmYgkXa-X&rs=coor&rs=coor&ri=&ri=&mrp=%7B%22c%22%3A132%7D&rt=&rt= \nUbytování: \nhttp://www.chatastudenicne.cz/?clanek=1 \nSobota: \nhttps://mapy.cz/turisticka?planovani-trasy&x=18.8062753&y=49.5688990&z=13&rc=9rWGNxUmmq9rcyzxVARThbSmm63Hmi8A&rs=coor&rs=coor&rs=osm&rs=osm&ri=&ri=&ri=128602087&ri=27735954&mrp=%7B%22c%22%3A132%7D&rt=&rt=&rt=&rt= \nUbytování: \nhttp://www.stozek.com.pl/ \nNeděle: \nhttps://mapy.cz/turisticka?planovani-trasy&x=18.7995849&y=49.6465397&z=13&rc=9rbhAxVJWOdjDxVfYv1b7aHC&rs=coor&rs=coor&rs=coor&ri=&ri=&ri=&mrp=%7B%22c%22%3A132%7D&rt=&rt=&rt= \nZákladné ceny: \nJízdenka tam i zpět\, když se koupí hromadná\, tak to vychází tak na 150 Kč/os. \nChata Studeničné + polopenze: Dospělí – 550 Kč\, děti 8 – 15 let – 380 Kč \nSchronisko Stožek: 40 + 25 zl nocleh + snídaně. Večeře z jídelního lístku. \nProsím nezabudnite deťom vymeniť polské ZLOTY!!! \nUbytovanie je na chatách\, takže spacák a karimatka nie je potreba! \nNezabudnúť ale čelovku!!! a niaku svačinu aj na sobotu a nedeľu.
URL:https://old.kanoeprerov.cz/event/turisticky-vikend/
CATEGORIES:ostatní závody
END:VEVENT
BEGIN:VEVENT
DTSTART;VALUE=DATE:20180929
DTEND;VALUE=DATE:20180930
DTSTAMP:20260420T003028
CREATED:20180911T075721Z
LAST-MODIFIED:20180911T075721Z
UID:959-1538179200-1538265599@old.kanoeprerov.cz
SUMMARY:Rozlúčkové preteky
DESCRIPTION:Rozlúčkové preteky v Bratislavě na na Zlatých píscích.
URL:https://old.kanoeprerov.cz/event/rozluckove-preteky/
CATEGORIES:ostatní závody
END:VEVENT
BEGIN:VEVENT
DTSTART;VALUE=DATE:20180929
DTEND;VALUE=DATE:20181001
DTSTAMP:20260420T003028
CREATED:20180403T102142Z
LAST-MODIFIED:20180403T102142Z
UID:769-1538179200-1538351999@old.kanoeprerov.cz
SUMMARY:Velká cena Sparty
DESCRIPTION:
URL:https://old.kanoeprerov.cz/event/velka-cena-sparty/
LOCATION:Praha 4 Braník\, U ledáren 80\, Praha 4 - Braník\, 14700\, Česká republika
CATEGORIES:ostatní závody
END:VEVENT
BEGIN:VEVENT
DTSTART;VALUE=DATE:20180915
DTEND;VALUE=DATE:20180916
DTSTAMP:20260420T003028
CREATED:20180911T074801Z
LAST-MODIFIED:20180911T074801Z
UID:952-1536969600-1537055999@old.kanoeprerov.cz
SUMMARY:Putovní pohár FM
DESCRIPTION:Původně neplánované lokální závody na přehradě Olešná ve Frýdku Místku.\nIdeální závody na sbírání závodních zkušeností a otestování dříve frekventované lokace. \nZákladní informace:\nodjezd z loděnice 7:30\nnávrat cca 18:00\, bude upřesněno dle časového rozpisu\ndoprava individuální\, výpomoc ze strany rodičů nutná\nstrava individuální\nVedoucí výpravy: Jaromír Pokorný \nNominace: \n\n\n\n1\nNeradil David\n2010\nmk1\n\n\n2\nVičar Josef\n2009\nmk1\n\n\n3\nVařák Vit\n2008\nmk1\n\n\n4\nHlaváč Matěj (P)\n2007\nmC1\n\n\n5\nJančík Tomáš\n2007\nmk1\n\n\n6\nKlim Martin\n2007\nmk1\n\n\n7\nOharek Patrik (L)\n2007\nmC1\n\n\n8\nPříkopa Vít (P)\n2007\nmC1\n\n\n9\nProkop Matej\n2007\nmk1\n\n\n10\nZahradníček Ondřej\n2007\nmk1\n\n\n11\nCigánková Klára\n2006\nmk1\n\n\n12\nJanáčková Denisa (L)\n2006\nmC1\n\n\n13\nNeradil Ondřej (L)\n2006\nmC1\n\n\n14\nNovák Jan (P)\n2006\nmC1\n\n\n15\nVičar Mikuláš\n2006\nmk1\n\n\n16\nVrba František\n2006\nmk1\n\n\n17\nZbránek Matyáš\n2006\nmk1\n\n\n18\nKotek Petr\n2005\nK1\n\n\n19\nKotková Lenka\n2005\nK1\n\n\n20\nŠimek Albert\n2005\nK1\n\n\n21\nHadaš Petr\n2004\nK1\n\n\n22\nMacháček Vojtech\n2004\nK1\n\n\n23\nPřibyl Lukáš\n2004\nK1\n\n\n24\nHavlík Josef\n1998\nC1
URL:https://old.kanoeprerov.cz/event/putovni-pohar-fm/
LOCATION:Vodní nádrž Olešná
CATEGORIES:ostatní závody
END:VEVENT
BEGIN:VEVENT
DTSTART;VALUE=DATE:20180902
DTEND;VALUE=DATE:20180903
DTSTAMP:20260420T003028
CREATED:20180323T123723Z
LAST-MODIFIED:20180323T123748Z
UID:704-1535846400-1535932799@old.kanoeprerov.cz
SUMMARY:Černožický kilometr
DESCRIPTION:Pouze benjamínci + další zájemci \nBude upřesněno …
URL:https://old.kanoeprerov.cz/event/cernozicky-kilometr/
LOCATION:Černožice\, ulice k Loděnici\, Černožice\, 50304
CATEGORIES:ostatní závody
END:VEVENT
BEGIN:VEVENT
DTSTART;VALUE=DATE:20180901
DTEND;VALUE=DATE:20180902
DTSTAMP:20260420T003028
CREATED:20180814T065610Z
LAST-MODIFIED:20180814T065610Z
UID:944-1535760000-1535846399@old.kanoeprerov.cz
SUMMARY:Pohár Sezemic
DESCRIPTION:Pouze benjamínci + další zájemci \nBude upřesněno …
URL:https://old.kanoeprerov.cz/event/pohar-sezemic/
LOCATION:Sezemice (Kunětice)\, Kunětice 96\, Sezemice\, 53304
CATEGORIES:ostatní závody
END:VEVENT
BEGIN:VEVENT
DTSTART;VALUE=DATE:20180630
DTEND;VALUE=DATE:20180702
DTSTAMP:20260420T003028
CREATED:20180403T100430Z
LAST-MODIFIED:20180619T122736Z
UID:755-1530316800-1530489599@old.kanoeprerov.cz
SUMMARY:Trenčianská regata / SVK
DESCRIPTION:Odjezd: pátek 29.6. 16:00\nV neděli odpoledne po závodech přesun z Trenčína na soustředění do Komárna\nNominace benjamínků: \n\n\n\n1\nVičar Josef\n\n\n2\nCsomová Laura\n\n\n3\nLenka Kotková\n\n\n4\nJančík Tomáš\n\n\n5\nKlim Martin\n\n\n6\nProkop Matej\n\n\n7\nZahradníček Ondřej\n\n\n8\nCigánková Klára\n\n\n9\nCsoma Jakub\n\n\n\n\n\n\n\n\n\n\n12\nVičar Mikuláš\n\n\n13\nVrba František\n\n\n14\nZbránek Matyáš\n\n\n\nTrenéři: Csoma Tomáš\, Macháček Petr
URL:https://old.kanoeprerov.cz/event/trencianska-regata-svk/
LOCATION:Trenčín\, Mládežnícka 6777/6\, Trenčín\, 91101\, Slovensko
CATEGORIES:ostatní závody
END:VEVENT
BEGIN:VEVENT
DTSTART;VALUE=DATE:20180616
DTEND;VALUE=DATE:20180618
DTSTAMP:20260420T003028
CREATED:20180403T100132Z
LAST-MODIFIED:20180403T100132Z
UID:752-1529107200-1529279999@old.kanoeprerov.cz
SUMMARY:Velká cena Komárna / SVK
DESCRIPTION:
URL:https://old.kanoeprerov.cz/event/velka-cena-komarna-svk/
LOCATION:Komárno\, Župná 18\, Komárno\, 94501\, Slovensko
CATEGORIES:ostatní závody
END:VEVENT
END:VCALENDAR