BEGIN:VCALENDAR
VERSION:2.0
PRODID:-// - ECPv6.0.6.2//NONSGML v1.0//EN
CALSCALE:GREGORIAN
METHOD:PUBLISH
X-ORIGINAL-URL:https://old.kanoeprerov.cz
X-WR-CALDESC:Akce na 
REFRESH-INTERVAL;VALUE=DURATION:PT1H
X-Robots-Tag:noindex
X-PUBLISHED-TTL:PT1H
BEGIN:VTIMEZONE
TZID:Europe/Prague
BEGIN:DAYLIGHT
TZOFFSETFROM:+0100
TZOFFSETTO:+0200
TZNAME:CEST
DTSTART:20170326T010000
END:DAYLIGHT
BEGIN:STANDARD
TZOFFSETFROM:+0200
TZOFFSETTO:+0100
TZNAME:CET
DTSTART:20171029T010000
END:STANDARD
BEGIN:DAYLIGHT
TZOFFSETFROM:+0100
TZOFFSETTO:+0200
TZNAME:CEST
DTSTART:20180325T010000
END:DAYLIGHT
BEGIN:STANDARD
TZOFFSETFROM:+0200
TZOFFSETTO:+0100
TZNAME:CET
DTSTART:20181028T010000
END:STANDARD
BEGIN:DAYLIGHT
TZOFFSETFROM:+0100
TZOFFSETTO:+0200
TZNAME:CEST
DTSTART:20190331T010000
END:DAYLIGHT
BEGIN:STANDARD
TZOFFSETFROM:+0200
TZOFFSETTO:+0100
TZNAME:CET
DTSTART:20191027T010000
END:STANDARD
BEGIN:DAYLIGHT
TZOFFSETFROM:+0100
TZOFFSETTO:+0200
TZNAME:CEST
DTSTART:20200329T010000
END:DAYLIGHT
BEGIN:STANDARD
TZOFFSETFROM:+0200
TZOFFSETTO:+0100
TZNAME:CET
DTSTART:20201025T010000
END:STANDARD
END:VTIMEZONE
BEGIN:VEVENT
DTSTART;VALUE=DATE:20200926
DTEND;VALUE=DATE:20200928
DTSTAMP:20260419T191509
CREATED:20200531T193345Z
LAST-MODIFIED:20200531T193345Z
UID:1215-1601078400-1601251199@old.kanoeprerov.cz
SUMMARY:Mistrovství ČR 5 km Praha
DESCRIPTION:
URL:https://old.kanoeprerov.cz/event/mistrovstvi-cr-5-km-praha/
CATEGORIES:závody ČP
END:VEVENT
BEGIN:VEVENT
DTSTART;VALUE=DATE:20200912
DTEND;VALUE=DATE:20200914
DTSTAMP:20260419T191509
CREATED:20200531T193219Z
LAST-MODIFIED:20200531T193219Z
UID:1213-1599868800-1600041599@old.kanoeprerov.cz
SUMMARY:2. náhradní ČP mládeže Račice
DESCRIPTION:
URL:https://old.kanoeprerov.cz/event/2-nahradni-cp-mladeze-racice/
LOCATION:Labe aréna Račice\, Račice 143\, Račice\, Ustecký\, 41108\, Česká republika
CATEGORIES:závody ČP
END:VEVENT
BEGIN:VEVENT
DTSTART;VALUE=DATE:20200828
DTEND;VALUE=DATE:20200831
DTSTAMP:20260419T191509
CREATED:20200531T193113Z
LAST-MODIFIED:20200531T193113Z
UID:1211-1598572800-1598831999@old.kanoeprerov.cz
SUMMARY:1. náhradní ČP mládeže Račice
DESCRIPTION:
URL:https://old.kanoeprerov.cz/event/1-nahradni-cp-mladeze-racice/
LOCATION:Labe aréna Račice\, Račice 143\, Račice\, Ustecký\, 41108\, Česká republika
CATEGORIES:závody ČP
END:VEVENT
BEGIN:VEVENT
DTSTART;VALUE=DATE:20200730
DTEND;VALUE=DATE:20200803
DTSTAMP:20260419T191509
CREATED:20200531T192713Z
LAST-MODIFIED:20200531T192713Z
UID:1207-1596067200-1596412799@old.kanoeprerov.cz
SUMMARY:MČR Račice
DESCRIPTION:Mistrovství ČR na krátkých tratích
URL:https://old.kanoeprerov.cz/event/mcr-racice/
LOCATION:Labe aréna Račice\, Račice 143\, Račice\, Ustecký\, 41108\, Česká republika
CATEGORIES:závody ČP
END:VEVENT
BEGIN:VEVENT
DTSTART;VALUE=DATE:20190921
DTEND;VALUE=DATE:20190923
DTSTAMP:20260419T191509
CREATED:20181205T104622Z
LAST-MODIFIED:20190820T111128Z
UID:1033-1569024000-1569196799@old.kanoeprerov.cz
SUMMARY:5. závod ČP vytrvalost Most
DESCRIPTION:
URL:https://old.kanoeprerov.cz/event/5-zavod-cp-vytrvalost/
CATEGORIES:závody ČP
END:VEVENT
BEGIN:VEVENT
DTSTART;VALUE=DATE:20190831
DTEND;VALUE=DATE:20190902
DTSTAMP:20260419T191509
CREATED:20181205T104415Z
LAST-MODIFIED:20190820T111106Z
UID:1029-1567209600-1567382399@old.kanoeprerov.cz
SUMMARY:ČP Benjamínků MM Moravy
DESCRIPTION:ČP benjamínků v místě tradičních závodů v Ostrožské Nové Vsi \n7. závod Velkomoravské ligy \nodjezd v pátek 20.8. 15:30.
URL:https://old.kanoeprerov.cz/event/cp-benjaminku-mm-moravy/
LOCATION:Ostrožská Nová Ves\, Nádražní 910\, Ostrožská Nová Ves\, 68722\, Česká republika
CATEGORIES:závody ČP
END:VEVENT
BEGIN:VEVENT
DTSTART;VALUE=DATE:20190718
DTEND;VALUE=DATE:20190722
DTSTAMP:20260419T191509
CREATED:20181205T104130Z
LAST-MODIFIED:20181205T104130Z
UID:1025-1563408000-1563753599@old.kanoeprerov.cz
SUMMARY:4. závod ČP - MČR krátké tratě
DESCRIPTION:Vrchol celoročního úsilí!\nPro rodiče benjamínků: termíny dovolených plánovat až po MČR !!!
URL:https://old.kanoeprerov.cz/event/4-zavod-cp-mcr-kratke-trate/
LOCATION:Labe aréna Račice\, Račice 143\, Račice\, Ustecký\, 41108\, Česká republika
CATEGORIES:závody ČP
END:VEVENT
BEGIN:VEVENT
DTSTART;VALUE=DATE:20190607
DTEND;VALUE=DATE:20190610
DTSTAMP:20260419T191509
CREATED:20181205T103651Z
LAST-MODIFIED:20181205T103651Z
UID:1021-1559865600-1560124799@old.kanoeprerov.cz
SUMMARY:3. závod ČP\, NZ RDJ
DESCRIPTION:3. závod Českého poháru mládeže\nnominační závod RDJ (reprezentačního družstva juniorů)
URL:https://old.kanoeprerov.cz/event/3-zavod-cp-nz-rdj/
LOCATION:Labe aréna Račice\, Račice 143\, Račice\, Ustecký\, 41108\, Česká republika
CATEGORIES:závody ČP
END:VEVENT
BEGIN:VEVENT
DTSTART;VALUE=DATE:20190511
DTEND;VALUE=DATE:20190514
DTSTAMP:20260419T191509
CREATED:20181205T103007Z
LAST-MODIFIED:20181205T103151Z
UID:1013-1557532800-1557791999@old.kanoeprerov.cz
SUMMARY:2. závod ČP Račice\, NZ RDS
DESCRIPTION:2. závod Českého poháru mládeže\nnominační závod RDS (reprezentačního družstva seniorů)
URL:https://old.kanoeprerov.cz/event/ii-zavod-cp-racice/
LOCATION:Labe aréna Račice\, Račice 143\, Račice\, Ustecký\, 41108\, Česká republika
CATEGORIES:závody ČP
END:VEVENT
BEGIN:VEVENT
DTSTART;VALUE=DATE:20190427
DTEND;VALUE=DATE:20190429
DTSTAMP:20260419T191509
CREATED:20181205T102720Z
LAST-MODIFIED:20190103T092752Z
UID:1011-1556323200-1556495999@old.kanoeprerov.cz
SUMMARY:1. závod ČP - MČR 5km mládež\, Týn nad Vltavou
DESCRIPTION:
URL:https://old.kanoeprerov.cz/event/1-zavod-cp-mcr-5km-mladez/
CATEGORIES:závody ČP
END:VEVENT
BEGIN:VEVENT
DTSTART;VALUE=DATE:20180922
DTEND;VALUE=DATE:20180924
DTSTAMP:20260419T191509
CREATED:20180321T104628Z
LAST-MODIFIED:20180911T075118Z
UID:658-1537574400-1537747199@old.kanoeprerov.cz
SUMMARY:Český pohár mládeže vytrvalost
DESCRIPTION:Český pohár mládeže vytrvalost\nV. závod Českého poháru mládeže a Mistrovství ČR klubů\n8. závod Českého poháru veteránů \nDvoudenní kombinované závody – netradiční model – věnujte prosím pozornost níže uvedeným informacím. \nZávodí se pouze v singlových disciplínách (po oba dny) podle Pravidel na dlouhé tratě tj. na „těžkých“ lodích ( 12 a 14 kg). \nVše ostatní podle Pravidel 2018 – tak jak jste zvyklí ze závodů Českého poháru \nSobota 22. 9. 2018 \nZávod na 4 km s obrátkou. \nTrať pro všechny kategorie stejná. Popis tratě viz. PLÁNEK ZDE. \nStart intervalový (každá loď samostatně – interval 30 sec.) \nVýsledky podle jednotlivých kategorií. Bodování do SCM a ČP jako samostatný závod. \nPřihlašujte přes přihlašovací modul ve všech kategoriích jako „dlouhá trať“. \nStart benjamínků a benjamínek mladších než ročník 2008 je povolen. Přihlašujte jako benjamínci – benjamínky C. \nKanoistky přihlašujte do svých věkových kategorii (C1 juniorky\, C1 dorostenky\, C1 žákyně). \nHodnoceny budou zvlášť juniorky a dohromady dorostenky a žákyně (stejně jako v minulých závodech ČP 2018). \nPředběžný časový pořad: \nPrvní start v 10\,30 – poslední start cca v 16\,30 \nPořadí kategorií: \nK1 junioři – K1 veteráni – K1 dorostenci – K1 juniorky – C1 junioři – K1 veteránky – C1 veteráni – \nK1 žáci – K1 dorostenky – C1 dorostenci – K1 žačky – C1 žáci – C1 juniorky – C1 dorostenky a žačky – \nMK1 benjamínci A – MK1 benjamínci B – MK1 benjamínky A – MK1 benjamínky B – MK1 benjamínci C \nMK1 benjamínky C \nPřesné startovní časy až po konečných přihláškách. \nNeděle 23. 9. 2018 \nVytrvalostní závod s obrátkami. Jednotlivé věkové kategorie různý počet kol. \nBenjamínci MK1\, MC1                  1 kolo cca 3 km                 1 obrátka \n\nBenjamínky MK1                            1 kolo cca 3 km                 1 obrátka \nŽákyně K1                                       2 kola cca 6 km                 3 obrátky \nŽáci C1                                            2 kola cca 6 km                 3 obrátky \nJuniorky C1                                      2 kola cca 6 km                 3 obrátky \nDorostenky + žačky C1                    2 kola cca 6 km                 3 obrátky \nŽáci K1                                             3 kola cca 9 km                 5 obrátek \nDorostenky K1                                 3 kola cca 9 km                 5 obrátek \nDorostenci C1                                   3 kola cca 9 km                 5 obrátek \nDorostenci K1                                   4 kola cca 12km                7 obrátek \n\nJuniorka K1                                       4 kola cca 12km                7 obrátek \nJunioři C1                                          4 kola cca 12km                7 obrátek \nVeteránky K1                                    4 kola cca 12km                7 obrátek \nVeteráni C1                                       4 kola cca 12km                7 obrátek \nJunioři K1                                          5 kol cca 15 km 9 obrátek \nVeteráni K1                                       5 kol cca 15 km 9 obrátek \nStart hromadný\, podle jednotlivých kategorií. PLÁNEK TRATI ZDE \nVzhledem k malé šířce řeky\, budou závodníci na startu řazeni do řad po 10 lodích\, podle pořadí ze sobotního závodu. Vlastní start pro všechny řady najednou (model např. Formule 1\, nebo biatlonových hromadných závodů). \nNa tento závod se nepřihlašuje!!! \nPrávo startu mají pouze účastníci sobotního závodu. V případě\, že byla loď v sobotním závodě diskvalifikována nebo závod nedokončila\, startovat může\, ale bude zařazena na konec startovního pole (do poslední řady). \nVýsledky podle jednotlivých kategorií. Bodování do SCM a ČP jako samostatný závod. \nPředběžný časový pořad: \nPrvní start v 9\,00 – poslední start cca v 17\,00 \nPřesné startovní časy až po konečných přihláškách. \nPorada – vysvětlení trati\, změny\, omluvy\, odevzdání přihlášky v sobotu 22. 9. 2018 na technické poradě před závodem v 9:15 v loděnici KK Kojetín.
URL:https://old.kanoeprerov.cz/event/cesky-pohar-mladeze-vytrvalost/
LOCATION:Kojetín\, Samota 1371\, Město\, Kojetín\, Olomoucký\, 75201
CATEGORIES:závody ČP
END:VEVENT
BEGIN:VEVENT
DTSTART;VALUE=DATE:20180720
DTEND;VALUE=DATE:20180723
DTSTAMP:20260419T191509
CREATED:20180321T104429Z
LAST-MODIFIED:20180710T081522Z
UID:656-1532044800-1532303999@old.kanoeprerov.cz
SUMMARY:Mistrovství ČR krátké tratě
DESCRIPTION:Mistrovství ČR krátké tratě\nNominační závod dospělých na MS a AMS\nIV. závod Českého poháru mládeže a Mistrovství ČR klubů\n4. závod Českého poháru veteránů \nV mládežnických kategoriích (2001-2003) půjde o nominaci na podzimní závody OH nadějí\, které budou letos v polské Poznani. Mládež bude samozřejmě bojovat i o další body do Českého poháru mládeže a žebříčků SCM. U veteránů jsou ve hře body do ČP veteránů. \nPŘEDBĚŽNÝ ČASOVÝ POŘAD MČR ZDE.xlsx – bude upraven podle skutečných počtů závodníků přihlášených do jednotlivých disciplín. Pořadí jednotlivých disciplín zůstane zachováno. Časy startů se budou měnit pouze v řádech minut. \nPřihláška do pondělí 16. 7. 2018 do půlnoci. \nJakékoliv dohlášky nejsou povoleny. Další změny v průběhu závodních dnů pouze dle pravidel 2018.\nFinální rozpis a rozlosování závodu bude zveřejněno na kanoe.cz do středy 18. 7. večer.\nStartovné bude vybíráno ve výši\, která bude vygenerována na přihláškách jednotlivých oddílů (snadná kontrola). \nUpozornění k přihlašování a k průběhu závodu:\nZávodí se podle platných Pravidel rychlostní kanoistiky\nBěžnou rutinou se stává povinné odevzdávání podepsaných přihlášek před začátkem závodů.\nDůrazně upozorňuji na povinnost vedoucích jednotlivých oddílů\, mít u sebe všechny registrační průkazy přihlášených závodníků\, včetně potvrzeních o zdravotní způsobilosti. Týká de samozřejmě i veteránů! Tyto doklady mohou být v průběhu MČR fyzicky kontrolovány. \nZávody benjamínků\nV závodech benjamínků C a benjamínek C na tratích 500m (MK1 500\, MC1 500\, K2 500\, C2 500) mohou startovat pouze závodníci narození v roce 2008.\nBenjamínci narození v roce 2009 a mladší startují pouze v závodech na MK1 1 km s hromadným startem (záměrně v nedělním programu\, aby nejmenší mohli přivézt rodiče). Přihlašujte do disciplíny MK1 benjamínci (bky) C. \nBĚHY BENJAMÍNKŮ PROBĚHNOU V PÁTEK VEČER PO POSLEDNÍCH JÍZDÁCH KANOISTICKÝCH ZÁVODŮ
URL:https://old.kanoeprerov.cz/event/mistrovstvi-cr-kratke-trate/
LOCATION:Labe aréna Račice\, Račice 143\, Račice\, Ustecký\, 41108\, Česká republika
CATEGORIES:závody ČP
END:VEVENT
BEGIN:VEVENT
DTSTART;VALUE=DATE:20180601
DTEND;VALUE=DATE:20180604
DTSTAMP:20260419T191509
CREATED:20171214T100202Z
LAST-MODIFIED:20180529T051516Z
UID:307-1527811200-1528070399@old.kanoeprerov.cz
SUMMARY:NZ juniorů Račice + ČP mládeže
DESCRIPTION:Český pohár mládeže – krátké tratě\nNominační závod juniorů\nIII. závod Českého poháru mládeže a Mistrovství ČR klubů \nBojovat se bude jednak o nominaci na vrcholné mezinárodní soutěže juniorů\, ale i o body do žebříčků SCM\, SPS a Mistrovství ČR oddílů a ČP mládeže.\nProgram závodů tentokrát již tradiční – závodí se v pátek\, v sobotu a v neděli. První tři závodníci každé kategorie obdrží medaile.\nPředběžný – orientační časový rozpis bude upraven podle skutečného počtu přihlášených závodníků do jednotlivých vypsaných kategorií. ZDE Excel \nBenjamínci C a benjamínky C startují bez omezení věku (2008 a mladší) pouze v závodech na 1 km s hromadným startem (v sobotu 2. 6.).\nV závodech benjamínků a benjamínek C na trati 200 a 500 m na K1 i K2 mohou startovat pouze závodníci narození v roce 2008.\nZávodí se na standartních tratích 200\, 500\, 1000 m s použitím startovního zařízení.\nBenjamínci na trati 1000m jedou se společným startem na 1 km (bez obrátky)\, bez použití startovacího zařízení. \nV závodech čtyřlodí žáků je povolen start benjamínků A (2006). \n\n– streda 30.5.\, tréning + viazanie lodí\n– štvrtok 31.5. odjazd o 15:30 z lodenice\, zraz o 15:15. Doprava mikrobusy.\n– návrat nedela cca po 22hod\n– ubytovanie v Labe Aréna Račice\, vlastný spacák\, 110\,-Kč/osoba noc….. celkom 330\,-Kč/osoba\n– strava  5×110 (Piat 2x\, So 2x\, Ne 1x\, )\, ranajky 3 x 50\,-Kč….. celkom 700\,-Kč/osoba\n– doprava mikrobusy\, príspevok na dopravu 100\,-Kč/osoba\n– celkové náklady teda 1130\,-Kč/osoba \n  \nNominace: \n\n\n\n1\nCsomová Laura\n2008\n\n\n2\nKlim Martin\n2007\n\n\n3\nOharek Patrik\n2007\n\n\n4\nZahradníček Ondřej\n2007\n\n\n5\nCigánková Klára\n2006\n\n\n6\nCsoma Jakub\n2006\n\n\n7\nNezhyba Miroslav\n2006\n\n\n8\nNovák Jan\n2006\n\n\n9\nVičar Mikuláš\n2006\n\n\n10\nVrba František\n2006\n\n\n11\nBéňa Ondřej\n2005\n\n\n12\nKotek Petr\n2005\n\n\n13\nKotková Lenka\n2005\n\n\n14\nŠimek Albert\n2005\n\n\n15\nHadaš Petr\n2004\n\n\n16\nMacháček Vojtech\n2004\n\n\n17\nPřibyl Lukáš\n2004\n\n\n18\nNeradil Vojtěch\n2003\n\n\n19\nHermély Gabriela\n2002\n\n\n20\nMacháček Jan\n2002\n\n\n21\nVečerka Martin\n2001\n\n\n\n 
URL:https://old.kanoeprerov.cz/event/nz-junioru-racice-cp-mladeze-2018/
LOCATION:Labe aréna Račice\, Račice 143\, Račice\, Ustecký\, 41108\, Česká republika
CATEGORIES:závody ČP
END:VEVENT
BEGIN:VEVENT
DTSTART;VALUE=DATE:20180505
DTEND;VALUE=DATE:20180508
DTSTAMP:20260419T191509
CREATED:20171214T095708Z
LAST-MODIFIED:20180501T073741Z
UID:301-1525478400-1525737599@old.kanoeprerov.cz
SUMMARY:I. NZ Račice + MČR 5km dospělí
DESCRIPTION:I. nominační závod\nMistrovství ČR na 5 km dospělých\nII. závod Českého poháru mládeže a Mistrovství ČR klubů \nVýnimočne sa bude závodiť od piatka do pondelka!\n– odjazd piatok 5.5. o 16hod z lodenice\n– návrat pondelok 7.5. benjamínci okolo 19hod\, zvyšok 23hod.\n– ubytovanie v Labe Aréna Račice\, vybavené izby\, 110\,-Kč/osobanoc…..celkom 330\,-Kč/osoba\n– strava  5×110 (So 2x\, Ne 2x\, Po1x)\, ranajky 3 x 50\,-Kč….. celkom 700\,-Kč/osoba\n– doprava mikrobusy\, príspevok na dopravu 100\,-Kč/osoba\n– celkové náklady teda 1130\,-Kč/osoba.\nProsím môžete peniaze nosiť už pred odchodom do Račic. \nNominácia: \n\n\n\n\n\n\n\n\n1\nCigánková Klára\n2006\n\n\n2\nCsoma Jakub\n2006\n\n\n3\nHošek Votjěch\n2006\n\n\n4\nNezhyba Miroslav\n2006\n\n\n5\nNovák Jan\n2006\n\n\n6\nVičar Mikuláš\n2006\n\n\n7\nVrba František\n2006\n\n\n8\nBéňa Ondřej\n2005\n\n\n9\nKotek Petr\n2005\n\n\n10\nKotková Lenka\n2005\n\n\n11\nŠimek Albert\n2005\n\n\n12\nHadaš Petr\n2004\n\n\n13\nMacháček Vojtech\n2004\n\n\n14\nPřibyl Lukáš\n2004\n\n\n15\nNeradil Vojtěch\n2003\n\n\n16\nHermély Gabriela\n2002\n\n\n17\nMacháček Jan\n2002\n\n\n18\nVečerka Martin\n2001\n\n\n19\nSolařová Kateřína\n2000\n\n\n20\nKotoučová Lucie\n1980\n\n\n21\nŠulák Libor\n1980\n\n\n22\nMacháček Petr\n1975\n\n\n23\nPokorný Jaromír\n1974\n\n\n\n\n\n\n\n\nPozor změna termínu – závodí se v sobotu\, v neděli a v pondělí!!!\nV pátek 4. 5. probíhají v České republice státní maturity. Část závodníků\, kterých se tyto nominační závody týkají\, se těchto zkoušek musí zúčastnit. Proto byl celý program závodů posunut o jeden den. Místo původně plánovaného pracovního pátku se bude závodit v pracovní pondělí. V úterý 8. 5. je státní svátek\, což jistě zpříjemní regeneraci sil po pondělním návratu z Račic. \nČasový rozpis závodu a vypsané disciplíny: \nPreference – nominační závody dospělých.\nSeznam disciplín a návrh rozložení závodů v průběhu jednotlivých závodních dnů podle požadavků RD. \nDospělí 6 disciplín – 3 x singl (1000 – 500 – 200)\, 3 x debl (1000 – 500 – 200)\nJunioři 5 disciplín – 3 x singl (1000 – 500 – 200)\, 2 x debl (1000 – 500) – juniorky se ženami\nKanoistky (ženy + juniorky) – 2 x singl (500 – 200)\, 2 x debl (500 – 200)\nDorostenci 4 disciplíny – 3 x singl (1000 – 500 – 200)\, 1 x debl (1000)\nDorostenky 4 disciplíny – 3 x singl (1000 – 500 – 200)\, 1 x debl (500)\nŽáci 4 disciplíny – 3 x singl (1000 – 500 – 200)\, 1 x debl (1000)\nŽačky 4 disciplíny – 3 x singl (1000 – 500 – 200)\, 1 x debl (500)\nKanoistky (dorostenky + žačky) – 2 x singl (500 – 200)\, 2 x debl (500 – 200)\nBenjamínci A – 3 disciplíny (MK1\, C1\, MK1ž – 1km hromadný start\, 500 normálně na rozjížďky\, 2km intervalový start)\nBenjamínci B a C na I. NZ nestartují!
URL:https://old.kanoeprerov.cz/event/i-nz-racice-mcr-5km-dospeli-2018/
LOCATION:Labe aréna Račice\, Račice 143\, Račice\, Ustecký\, 41108\, Česká republika
CATEGORIES:závody ČP
END:VEVENT
BEGIN:VEVENT
DTSTART;VALUE=DATE:20180421
DTEND;VALUE=DATE:20180423
DTSTAMP:20260419T191509
CREATED:20171213T111315Z
LAST-MODIFIED:20180417T062052Z
UID:287-1524268800-1524441599@old.kanoeprerov.cz
SUMMARY:MČR 5 km mládež + veteráni
DESCRIPTION:Mistrovství ČR na 5 km mládeže a veteránů\,\nI. závod Českého poháru mládeže a Mistrovství ČR klubů\nII. závod Českého poháru veteránů\nMemoriál Dr. Karla Popela \n\nprvý závod Českého pohára a zároveň Majstrovstvá ČR na dlhých tratiach sa uskutočnia už tento víkend v Prahe. \nZákladné info: \n– odjazd piatok 20.4. v 16hod z lodenice \n– návrat nedela cca 19hod \n– ubytovanie v telocvični\, karimatku + spacák sebou 80\,-kč osoba/noc \n– strava bude zaistená organizátorom na mieste formou bufetu\, v sobotu spoločná večera cca 150\,-Kč/osoba \n– doprava mikrobusmi\, príspevok 100\,-Kč/dieťa \nNominácia: \n\n\n\n1\nCsomová Laura\n2008\n\n\n2\nOharek Patrik (L)\n2007\n\n\n3\nZahradníček Ondřej\n2007\n\n\n4\nCigánková Klára\n2006\n\n\n5\nCsoma Jakub\n2006\n\n\n6\nHošek Votjěch\n2006\n\n\n7\nNezhyba Miroslav\n2006\n\n\n8\nNovák Jan (P)\n2006\n\n\n9\nVičar Mikuláš\n2006\n\n\n10\nVrba František\n2006\n\n\n11\nKotek Petr\n2005\n\n\n12\nKotková Lenka\n2005\n\n\n13\nŠimek Albert\n2005\n\n\n14\nHadaš Petr\n2004\n\n\n15\nMacháček Vojtech\n2004\n\n\n16\nPřibyl Lukáš\n2004\n\n\n17\nNeradil Vojtěch (P)\n2003\n\n\n18\nHermély Gabriela\n2002\n\n\n19\nMacháček Jan\n2002\n\n\n20\nVečerka Martin (L)\n2001\n\n\n21\nSolařová Kateřína\n2000\n\n\n\n———————————————————– \nPropozice závodu:\nhttp://srk.kanoe.cz/akce_rychlost.php?id_zavodu=3824 \nStream přenos:\nPřímý streamový přenos bude zajištěn čtyřmi kamerami a bude přenášen na velkoplošnou obrazovku v areálu KVS Praha.\nhttps://www.youtube.com/channel/UCl7CkiXxH-qJXw2cYdY89Gg/live \nPředběžný časový rozpis ZDE \nDalší informace pořadatele:\nZázemí závodů bude rozloženo do areálů KVS Praha a KK Slavia.\nOddílům bude umožněno postavit si stany pro své zázemí dle pokynů pořadatelů\, kteří tímto prosí o nahlášení počtu a velikosti stanů a zároveň o předpokládanou dobu příjezdu (pátek – sobota).\nParkování aut a autobusů bude umožněno v ulici Modřanská před loděnicí KVS Praha\, do areálu loděnice budou vpuštěny pouze vleky a lodě. Parkování bude organizováno označenými pořadateli.\nObčerstvení bude možno zakoupit přímo v areálu loděnice a bude zajištěno v dostatečném rozsahu a výběru.\nVyhlašování výsledků bude probíhat průběžně a co nejdříve po každé kategorii\, jeho součástí bude tombola.\nAreál KVS Praha bude od pátku 20. do neděle 22. 4. pod trvalým dohledem pořadatelů. \nDoprovod\, trenéry\, rozhodčí a další zveme na posezení s živou hudbou po skončení sobotního programu (připravena je i tzv. mokrá varianta). \nPopis tratě: \nStart všech disciplín před loděnicí KVS – uprostřed řeky\, proti proudu\nTrať 5km – 2 x velké kolo\, trať 2\,5 km – 1 x velké kolo\nHorní obrátka pod ostrovem Sparta cca 1200 m od startu ze středu řeky doleva k pravému břehu\nDolní obrátka v prostoru startu a cíle\, před loděnicí KVS od pravého břehu doleva do středu řeky\nNa trati budou umístěny „naváděcí“ bóje určující směr jízdy (zabraňující jízdy pod břehy)\nCíl všech disciplín před loděnicí KVS – pravé části řeky \nČasový rozpis počítá maximálně se dvěma kategoriemi na trati a dává možnost případnému střídání lodí v exponovaných kategoriích. \nPřihlášky přes www.kanoe.cz do středy 18. dubna 2018 do 24:00. \nTechnická porada vedoucích oddílů v sobotu 21. 4. 2018 v 8:30 v klubovně KVS \nDalší změny dle platných pravidel v průběhu závodních dnů. \nZa pořadatele Martin Dvořák\, tel: 608303059; email: dvorak@sportgroup.cz\nZa STK SRK ČSK Zdeněk Krpata\, tel: 739539483; email: zkrpata@c-box.cz
URL:https://old.kanoeprerov.cz/event/mcr-5-km-mladez-veterani-2018/
LOCATION:loděnice KVS\, Modřanská 1151/53\, Praha 4\, 14700
CATEGORIES:závody ČP
END:VEVENT
BEGIN:VEVENT
DTSTART;VALUE=DATE:20171126
DTEND;VALUE=DATE:20171127
DTSTAMP:20260419T191509
CREATED:20171125T163607Z
LAST-MODIFIED:20171125T163607Z
UID:216-1511654400-1511740799@old.kanoeprerov.cz
SUMMARY:Stránky
DESCRIPTION:blabla
URL:https://old.kanoeprerov.cz/event/stranky/
LOCATION:Most\, Most - Matylda\, Most\, Ústecký kraj\, Česká republika
CATEGORIES:závody ČP
END:VEVENT
BEGIN:VEVENT
DTSTART;VALUE=DATE:20170923
DTEND;VALUE=DATE:20170925
DTSTAMP:20260419T191509
CREATED:20170822T082203Z
LAST-MODIFIED:20170822T082203Z
UID:130-1506124800-1506297599@old.kanoeprerov.cz
SUMMARY:MČR maratón\, ČP vytrvalost
DESCRIPTION:
URL:https://old.kanoeprerov.cz/event/mcr-maraton-cp-vytrvalost/
LOCATION:Most\, Most - Matylda\, Most\, Ústecký kraj\, Česká republika
CATEGORIES:závody ČP
END:VEVENT
END:VCALENDAR