BEGIN:VCALENDAR
VERSION:2.0
PRODID:-// - ECPv6.0.6.2//NONSGML v1.0//EN
CALSCALE:GREGORIAN
METHOD:PUBLISH
X-ORIGINAL-URL:https://old.kanoeprerov.cz
X-WR-CALDESC:Akce na 
REFRESH-INTERVAL;VALUE=DURATION:PT1H
X-Robots-Tag:noindex
X-PUBLISHED-TTL:PT1H
BEGIN:VTIMEZONE
TZID:Europe/Prague
BEGIN:DAYLIGHT
TZOFFSETFROM:+0100
TZOFFSETTO:+0200
TZNAME:CEST
DTSTART:20180325T010000
END:DAYLIGHT
BEGIN:STANDARD
TZOFFSETFROM:+0200
TZOFFSETTO:+0100
TZNAME:CET
DTSTART:20181028T010000
END:STANDARD
BEGIN:DAYLIGHT
TZOFFSETFROM:+0100
TZOFFSETTO:+0200
TZNAME:CEST
DTSTART:20190331T010000
END:DAYLIGHT
BEGIN:STANDARD
TZOFFSETFROM:+0200
TZOFFSETTO:+0100
TZNAME:CET
DTSTART:20191027T010000
END:STANDARD
BEGIN:DAYLIGHT
TZOFFSETFROM:+0100
TZOFFSETTO:+0200
TZNAME:CEST
DTSTART:20200329T010000
END:DAYLIGHT
BEGIN:STANDARD
TZOFFSETFROM:+0200
TZOFFSETTO:+0100
TZNAME:CET
DTSTART:20201025T010000
END:STANDARD
END:VTIMEZONE
BEGIN:VEVENT
DTSTART;VALUE=DATE:20200822
DTEND;VALUE=DATE:20200824
DTSTAMP:20260420T003255
CREATED:20200531T192957Z
LAST-MODIFIED:20200531T192957Z
UID:1209-1598054400-1598227199@old.kanoeprerov.cz
SUMMARY:Slovácká 500
DESCRIPTION:Mezinárodní Mistrovství Moravy a nejlepší závody celé sezóny\n5. závod Velkomoravské ligy na jezeře Kunovská Tabule v Ostrožské Nové Vsi
URL:https://old.kanoeprerov.cz/event/slovacka-500/
LOCATION:Ostrožská Nová Ves\, Nádražní 910\, Ostrožská Nová Ves\, 68722\, Česká republika
CATEGORIES:závody Velkomoravské ligy
END:VEVENT
BEGIN:VEVENT
DTSTART;VALUE=DATE:20200621
DTEND;VALUE=DATE:20200622
DTSTAMP:20260420T003255
CREATED:20200531T191711Z
LAST-MODIFIED:20200531T191711Z
UID:1201-1592697600-1592783999@old.kanoeprerov.cz
SUMMARY:Přerovská 200
DESCRIPTION:Domácí závod\, tentokrát v pozměněném formátu na trati 2 km\n4. závod Velkomoravské ligy\nÚčast všech\, včetně rodičů povinná!
URL:https://old.kanoeprerov.cz/event/prerovska-200/
CATEGORIES:závody Velkomoravské ligy
END:VEVENT
BEGIN:VEVENT
DTSTART;VALUE=DATE:20200620
DTEND;VALUE=DATE:20200621
DTSTAMP:20260420T003255
CREATED:20200531T191238Z
LAST-MODIFIED:20200531T191238Z
UID:1199-1592611200-1592697599@old.kanoeprerov.cz
SUMMARY:Moravský pohár Kojetín
DESCRIPTION:3. závod Velkomoravské ligy na Moravě v Kojetíně
URL:https://old.kanoeprerov.cz/event/moravsky-pohar-kojetin-2/
LOCATION:Kojetín\, Samota 1371\, Město\, Kojetín\, Olomoucký\, 75201
CATEGORIES:závody Velkomoravské ligy
END:VEVENT
BEGIN:VEVENT
DTSTART;VALUE=DATE:20200607
DTEND;VALUE=DATE:20200608
DTSTAMP:20260420T003255
CREATED:20200531T190621Z
LAST-MODIFIED:20200531T190714Z
UID:1195-1591488000-1591574399@old.kanoeprerov.cz
SUMMARY:Brněnský dvoukilák
DESCRIPTION:2. závod Velkomoravské ligy v Brně na řece Svratce
URL:https://old.kanoeprerov.cz/event/brnensky-dvoukilak/
CATEGORIES:závody Velkomoravské ligy
END:VEVENT
BEGIN:VEVENT
DTSTART;VALUE=DATE:20200606
DTEND;VALUE=DATE:20200607
DTSTAMP:20260420T003255
CREATED:20200531T190350Z
LAST-MODIFIED:20200531T190350Z
UID:1193-1591401600-1591487999@old.kanoeprerov.cz
SUMMARY:Havel 7 Cup
DESCRIPTION:závod Velkomoravské ligy na pískovně v Grygově u Miry Havla
URL:https://old.kanoeprerov.cz/event/havel-7-cup/
CATEGORIES:závody Velkomoravské ligy
END:VEVENT
BEGIN:VEVENT
DTSTART;VALUE=DATE:20190622
DTEND;VALUE=DATE:20190624
DTSTAMP:20260420T003255
CREATED:20190103T093026Z
LAST-MODIFIED:20190619T061231Z
UID:1065-1561161600-1561334399@old.kanoeprerov.cz
SUMMARY:Moravský pohár Kojetín
DESCRIPTION:7. závod Velkomoravské ligy v Kojetíně v náhradním termínu
URL:https://old.kanoeprerov.cz/event/moravsky-pohar-kojetin/
LOCATION:Kojetín\, Samota 1371\, Město\, Kojetín\, Olomoucký\, 75201
CATEGORIES:závody Velkomoravské ligy
END:VEVENT
BEGIN:VEVENT
DTSTART;VALUE=DATE:20190616
DTEND;VALUE=DATE:20190617
DTSTAMP:20260420T003255
CREATED:20190103T091322Z
LAST-MODIFIED:20190429T102021Z
UID:1049-1560643200-1560729599@old.kanoeprerov.cz
SUMMARY:Hranická 200ka
DESCRIPTION:7. závod Velkomoravské ligy
URL:https://old.kanoeprerov.cz/event/hranicka-200ka-2/
LOCATION:Hranice\, Trávnická 508\, Hranice\, 75301
CATEGORIES:závody Velkomoravské ligy
END:VEVENT
BEGIN:VEVENT
DTSTART;VALUE=DATE:20190615
DTEND;VALUE=DATE:20190616
DTSTAMP:20260420T003255
CREATED:20190103T091214Z
LAST-MODIFIED:20190429T102004Z
UID:1047-1560556800-1560643199@old.kanoeprerov.cz
SUMMARY:Přerovská 200ka
DESCRIPTION:6. závod Velkomoravské ligy pořádaný naším oddílem\, 37. ročník
URL:https://old.kanoeprerov.cz/event/prerovska-200ka/
CATEGORIES:závody Velkomoravské ligy
END:VEVENT
BEGIN:VEVENT
DTSTART;VALUE=DATE:20190601
DTEND;VALUE=DATE:20190603
DTSTAMP:20260420T003255
CREATED:20190429T101923Z
LAST-MODIFIED:20190429T101923Z
UID:1088-1559347200-1559519999@old.kanoeprerov.cz
SUMMARY:Havel 6 Cup
DESCRIPTION:5. díl seriálu Velkomoravské ligy
URL:https://old.kanoeprerov.cz/event/havel-6-cup/
CATEGORIES:závody Velkomoravské ligy
END:VEVENT
BEGIN:VEVENT
DTSTART;VALUE=DATE:20190420
DTEND;VALUE=DATE:20190421
DTSTAMP:20260420T003255
CREATED:20190315T073444Z
LAST-MODIFIED:20190315T073504Z
UID:1078-1555718400-1555804799@old.kanoeprerov.cz
SUMMARY:Brněnská pětka
DESCRIPTION:3. závod Velkomoravské ligy\, premiéra závodů v Brně na řece Svratce \nhttps://www.kanoistikabrno.cz/brnenska-petka#brnenska-petka
URL:https://old.kanoeprerov.cz/event/brnenska-petka/
CATEGORIES:závody Velkomoravské ligy
END:VEVENT
BEGIN:VEVENT
DTSTART;VALUE=DATE:20190413
DTEND;VALUE=DATE:20190414
DTSTAMP:20260420T003255
CREATED:20181210T114332Z
LAST-MODIFIED:20190103T090951Z
UID:1035-1555113600-1555199999@old.kanoeprerov.cz
SUMMARY:Dlouhé tratě na Moravě
DESCRIPTION:2. závod Velkomoravské ligy
URL:https://old.kanoeprerov.cz/event/dlouhe-trate-na-morave/
LOCATION:Kojetín\, Samota 1371\, Město\, Kojetín\, Olomoucký\, 75201
CATEGORIES:závody Velkomoravské ligy
END:VEVENT
BEGIN:VEVENT
DTSTART;VALUE=DATE:20190406
DTEND;VALUE=DATE:20190407
DTSTAMP:20260420T003255
CREATED:20190103T090846Z
LAST-MODIFIED:20190103T090846Z
UID:1044-1554508800-1554595199@old.kanoeprerov.cz
SUMMARY:Novoveský přespolák
DESCRIPTION:Start do sezóny 2019.\n1. díl Velkomoravské ligy
URL:https://old.kanoeprerov.cz/event/novovesky-prespolak-2/
LOCATION:Ostrožská Nová Ves\, Nádražní 910\, Ostrožská Nová Ves\, 68722\, Česká republika
CATEGORIES:závody Velkomoravské ligy
END:VEVENT
BEGIN:VEVENT
DTSTART;VALUE=DATE:20181013
DTEND;VALUE=DATE:20181014
DTSTAMP:20260420T003255
CREATED:20180403T102434Z
LAST-MODIFIED:20180911T075308Z
UID:772-1539388800-1539475199@old.kanoeprerov.cz
SUMMARY:Hranický maratón
DESCRIPTION:9. závod Velkomoravské ligy\nPOZOR\, ZMĚNA TERMÍNU!\nposlední závod seriálu Velkomoravské ligy i celé závodní sezóny 2018
URL:https://old.kanoeprerov.cz/event/hranicky-maraton/
LOCATION:Hranice\, Trávnická 508\, Hranice\, 75301
CATEGORIES:závody Velkomoravské ligy
END:VEVENT
BEGIN:VEVENT
DTSTART;VALUE=DATE:20180908
DTEND;VALUE=DATE:20180910
DTSTAMP:20260420T003255
CREATED:20180403T101843Z
LAST-MODIFIED:20180403T101843Z
UID:767-1536364800-1536537599@old.kanoeprerov.cz
SUMMARY:Kojetínský maratón
DESCRIPTION:8. závod Velkomoravské ligy
URL:https://old.kanoeprerov.cz/event/kojetinsky-maraton/
LOCATION:Kojetín\, Samota 1371\, Město\, Kojetín\, Olomoucký\, 75201
CATEGORIES:závody Velkomoravské ligy
ORGANIZER;CN="Kanoistika%20Kojet%C3%ADn":MAILTO:kanoistika.kojetin@gmail.com
END:VEVENT
BEGIN:VEVENT
DTSTART;VALUE=DATE:20180825
DTEND;VALUE=DATE:20180827
DTSTAMP:20260420T003255
CREATED:20180322T122952Z
LAST-MODIFIED:20180814T092814Z
UID:687-1535155200-1535327999@old.kanoeprerov.cz
SUMMARY:Slovácká 500 ka
DESCRIPTION:XXVI.Mezinárodní mistrovství Moravy „SLOVÁCKÁ 500“\n 7. závod Velkomoravské ligy\nMemoriál Bohumila Hlůška (C1 500m)\n———————————————————–\n \nOdjazd benjamínci už vo štvrtok 23.8. o 16 hod.  \n– doprava individuálna \n– lokalita\, Kunovská tabule https://www.google.com/maps/@49.0183632\,17.4252059\,1031m/data=!3m1!1e3 \n– ubytovanie v stanoch\, spacáky \n– strava\, štvrtok a piatok večer grill\, ostatné formou meníčka\, cca 300\,-Kč na deň \n– návrat v nedelu\, koniec závodov o cca 17hod \n– vjazd až na závodisko nie je povolený\, je potrebné auto odparkovať už pri kúpalisku\, bližšie info aj na http://www.onv-canoe.cz/index.php?p=page7-1&include=pages \nNominácia\, všetci aktívny závodníci: \n\n\n\n\nMeno\nrok narodenia\n\n\n1\nNeradil David\n2010\n\n\n2\nVičar Josef\n2009\n\n\n3\nCsomová Laura\n2008\n\n\n4\nOslanec Adam\n2008\n\n\n5\nVařák Vit\n2008\n\n\n6\nChylík Jonáš\n2007\n\n\n7\nBeneš Bořek\n2007\n\n\n8\nHlaváč Matěj (P)\n2007\n\n\n9\nJančík Tomáš\n2007\n\n\n10\nKlim Martin\n2007\n\n\n11\nOharek Patrik (L)\n2007\n\n\n12\nPříkopa Vít (P)\n2007\n\n\n13\nProkop Matej\n2007\n\n\n14\nZahradníček Ondřej\n2007\n\n\n15\nCigánková Klára\n2006\n\n\n16\nCsoma Jakub\n2006\n\n\n17\nJanáčková Denisa (L)\n2006\n\n\n18\nNeradil Ondřej (L)\n2006\n\n\n19\nNovák Jan (P)\n2006\n\n\n20\nVičar Mikuláš\n2006\n\n\n21\nVrba František\n2006\n\n\n22\nZbránek Matyáš\n2006\n\n\n23\nKotek Petr\n2005\n\n\n24\nKotková Lenka\n2005\n\n\n25\nŠimek Albert\n2005\n\n\n26\nHadaš Petr\n2004\n\n\n27\nMacháček Vojtech\n2004\n\n\n28\nPřibyl Lukáš\n2004\n\n\n29\nNeradil Vojtěch (P)\n2003\n\n\n30\nHermély Gabriela\n2002\n\n\n31\nMacháček Jan\n2002\n\n\n32\nVečerka Martin (L)\n2001\n\n\n33\nSolařová Kateřína\n2000\n\n\n\n 
URL:https://old.kanoeprerov.cz/event/slovacka-500-ka/
LOCATION:Ostrožská Nová Ves\, Nádražní 910\, Ostrožská Nová Ves\, 68722\, Česká republika
CATEGORIES:závody Velkomoravské ligy
END:VEVENT
BEGIN:VEVENT
DTSTART;VALUE=DATE:20180616
DTEND;VALUE=DATE:20180618
DTSTAMP:20260420T003255
CREATED:20180322T112337Z
LAST-MODIFIED:20180403T123704Z
UID:675-1529107200-1529279999@old.kanoeprerov.cz
SUMMARY:Havel 5 Cup
DESCRIPTION:6. závod Velkomoravské ligy 2018\nna štěrkovně v Grygově \nMira Havel po svém osamostatnění a založení oddílu Kanál Vodních Sportů Olomouc navazuje na tradici Havel Cupů a pořádá premiérový ročník na štěrkovně v Grygově.
URL:https://old.kanoeprerov.cz/event/havel-5-cup/
CATEGORIES:závody Velkomoravské ligy
END:VEVENT
BEGIN:VEVENT
DTSTART;VALUE=DATE:20180610
DTEND;VALUE=DATE:20180611
DTSTAMP:20260420T003255
CREATED:20180322T111721Z
LAST-MODIFIED:20180322T111721Z
UID:672-1528588800-1528675199@old.kanoeprerov.cz
SUMMARY:Hranická 200ka
DESCRIPTION:5. závod Velkomoravské ligy 2018\nMemoriál Milana Bartoše\nv Hranicích na řece Bečvě
URL:https://old.kanoeprerov.cz/event/hranicka-200ka/
LOCATION:Hranice\, Trávnická 508\, Hranice\, 75301
CATEGORIES:závody Velkomoravské ligy
END:VEVENT
BEGIN:VEVENT
DTSTART;VALUE=DATE:20180609
DTEND;VALUE=DATE:20180610
DTSTAMP:20260420T003255
CREATED:20171214T100739Z
LAST-MODIFIED:20180322T111345Z
UID:309-1528502400-1528588799@old.kanoeprerov.cz
SUMMARY:Přerovská 200 36. ročník
DESCRIPTION:4. závod Velkomoravské ligy 2018\n36. ročník závodu v Přerově na řece Bečvě pořádaný naším oddílem
URL:https://old.kanoeprerov.cz/event/prerovska-200-36-rocnik/
LOCATION:Přerov\, Bezručova 770/4\, Přerov\, Olomoucký\, 75002\, Česká republika
CATEGORIES:závody Velkomoravské ligy
ORGANIZER;CN="Kanoistika%20P%C5%99erov":MAILTO:info@kanoeprerov.cz
END:VEVENT
BEGIN:VEVENT
DTSTART;VALUE=DATE:20180526
DTEND;VALUE=DATE:20180528
DTSTAMP:20260420T003255
CREATED:20171214T100042Z
LAST-MODIFIED:20180522T054401Z
UID:305-1527292800-1527465599@old.kanoeprerov.cz
SUMMARY:Moravský pohár Kojetín
DESCRIPTION:3. závod Velkomoravské ligy 2018\nv Kojetíně na řece Moravě \nZákladené info: \n– piatok viazanie lodí \n– doprava individuálna\, prvý štart v 9hod\, presný čas ešte upresníme \n– stravu bude možné kúpiť na mieste. \n– závody v sobotu aj nedelu\, viac info na http://www.kanoistika-kojetin.cz/index.php/nase-zavody/moravsky-pohar/informace-a-organizacni-pokyny \nNominácia: \n\n\n\n1\nVičar Josef\n\n\n2\nCsomová Laura\n\n\n3\nOslanec Adam\n\n\n4\nVařák Vit\n\n\n5\nJančík Tomáš\n\n\n6\nKlim Martin\n\n\n7\nOharek Patrik\n\n\n8\nPříkopa Vít\n\n\n9\nProkop Matej\n\n\n10\nZahradníček Ondřej\n\n\n11\nCigánková Klára\n\n\n12\nCsoma Jakub\n\n\n13\nHošek Votjěch\n\n\n14\nNeradil Ondřej\n\n\n15\nNezhyba Miroslav\n\n\n16\nNovák Jan\n\n\n17\nVičar Mikuláš\n\n\n18\nVrba František\n\n\n19\nZbránek Matyáš\n\n\n20\nBéňa Ondřej\n\n\n21\nKotek Petr\n\n\n22\nKotková Lenka\n\n\n23\nŠimek Albert\n\n\n24\nHadaš Petr\n\n\n25\nMacháček Vojtech\n\n\n26\nPřibyl Lukáš\n\n\n27\nNeradil Vojtěch\n\n\n28\nHermély Gabriela\n\n\n29\nMacháček Jan
URL:https://old.kanoeprerov.cz/event/moravsky-pohar-2018/
LOCATION:Kojetín\, Samota 1371\, Město\, Kojetín\, Olomoucký\, 75201
CATEGORIES:závody Velkomoravské ligy
ORGANIZER;CN="Kanoistika%20Kojet%C3%ADn":MAILTO:kanoistika.kojetin@gmail.com
END:VEVENT
BEGIN:VEVENT
DTSTART;VALUE=DATE:20180414
DTEND;VALUE=DATE:20180415
DTSTAMP:20260420T003255
CREATED:20171213T112251Z
LAST-MODIFIED:20180411T074948Z
UID:291-1523664000-1523750399@old.kanoeprerov.cz
SUMMARY:Dlouhé tratě na Moravě
DESCRIPTION:2. závod Velkomoravské ligy 2018\nv Kojetíně na řece Moravě \nNominácia: \n\n\n\n1\nVičar Josef\n\n\n2\nCsomová Laura\n\n\n3\nOslanec Adam\n\n\n4\nVařák Vit\n\n\n5\nJančík Tomáš\n\n\n6\nOharek Patrik\n\n\n7\nProkop Matej\n\n\n8\nZahradníček Ondřej\n\n\n9\nCigánková Klára\n\n\n10\nCsoma Jakub\n\n\n11\nHošek Votjěch\n\n\n12\nNezhyba Miroslav\n\n\n13\nNovák Jan\n\n\n14\nVičar Mikuláš\n\n\n15\nVrba František\n\n\n16\nKotek Petr\n\n\n17\nKotková Lenka\n\n\n18\nŠimek Albert\n\n\n19\nHadaš Petr\n\n\n20\nPřibyl Lukáš\n\n\n21\nNeradil Vojtěch\n\n\n22\nMacháček Jan\n\n\n23\nVečerka Martin\n\n\n24\nSolařová Kateřína\n\n\n\n– odjazd z lodenice v sobotu o 8:00 \n– návrat sobota cca 18hod \n– doprava a strava individuálna\, prosím aby deti medzi sebou komunikovali a dohodli sa\, ďakujeme. \n———————————————————– \nAhoj všichni přátelé jarních závodů\, \ndovolujeme si Vás pozvat na letošní v pořadí druhé na Moravě\, ale pro K2 a C2 v pořadí první jarní závody také na Moravě  \, které se uskuteční v sobotu 14.4.2018 v naší loděnici. \nZávody jsou tradičně jednodenní s těmito vypsanými kategoriemi: \n– tratě pro benjamíny a benjamínky 2 Km mk1\, K2\, mC1\, C2 \n– tratě pro ostatní 5 Km  K1\, K2\, C1\, C2 \nZačátek porady je plánován na 8:30 hod v klubovně nové loděnice v prvním patře. První závod pak odstartuje v 9:30 hod. \n  \n  \nDoufáme\, že počasí k nám bude přívětivé a dopřeje nám a hlavně závodníkům trošku tepla a sucha. Vzhledem k tomu\, že v areálu Kanoistiky Kojetín probíhají dokončovací práce a úpravy venkovních ploch\, budou trvat některá omezení vjezdu a dalších aktivit v areálu: \n\nPro parkování jsou určeny zpevněné plochy za branou areálu\, parkování bude řízeno na místě a na louce je zakázáno. Kapacita parkovacích míst je zhruba 40.\nVjezd do areálu /za bránu/ bude velmi omezený\, a to pouze pro vleky na nutnou dobu. Auta prosím odstavte za bránu na vyhrazené parkoviště.\nDalší parkovací místa pak budou v úrovni příjezdové komunikace za brodem.\nParkování na krajnici komunikace v úrovni parkovacích míst není povoleno vzhledem k tomu\, že po úpravách není povrch zpevněný a mohlo by dojít k jeho uvolnění. Místa se zákazem parkování budou ohraničeny páskou.\nVítr nás bohužel připravil o možnost posezení ve velkém venkovním stanu. Místa k sezení budou proto k dispozici na terasách nové loděnice.\n\nZa všechna trvající omezení se předem odmlouváme a rádi bychom Vás požádali o schovívavost. Vzhledem k rozsáhlé rekonstrukci areálu Kanoistiky Kojetín je nutné tyto omezení respektovat. Na každých dalších závodech už bude zázemí a pohodlí větší\, což Vám s potěšením rádi budeme prezentovat. \nNeustále probíhá digitalizace areálu\, v jejímž důsledku Vám budeme schopní promítat závod pomocí 4 kamer na kvalitních LCD monitorech v areálu loděnice. \nStrava: \nV plném provozu bude náš bufet v prostorách dřívější klubovny. Gril pak bude připraven na svém obvyklém místě s tradičními dobrotami  \nSlavnostní otevření nové loděnice pak proběhne v rámci závodů Moravského poháru v termínu 25.-26.května 2018. I tak Vám rádi poskytneme prohlídku v nově rekonstruované budově. \nJsem velmi potěšen Vaší přízní. \nS pozdravem \nAleš Zendulka a Jana Chovancová \nKanoistika Kojetín
URL:https://old.kanoeprerov.cz/event/dlouhe-trate-na-morave-2018/
LOCATION:Kojetín\, Samota 1371\, Město\, Kojetín\, Olomoucký\, 75201
CATEGORIES:závody Velkomoravské ligy
ORGANIZER;CN="Kanoistika%20Kojet%C3%ADn":MAILTO:kanoistika.kojetin@gmail.com
END:VEVENT
BEGIN:VEVENT
DTSTART;VALUE=DATE:20180407
DTEND;VALUE=DATE:20180408
DTSTAMP:20260420T003255
CREATED:20180318T155844Z
LAST-MODIFIED:20180328T060311Z
UID:617-1523059200-1523145599@old.kanoeprerov.cz
SUMMARY:XLI. Novoveský přespolák
DESCRIPTION:úvodní závod Velkomoravské ligy 2018 \njezero Kunovská tabule v Ostrožské Nové Vsi. \nDopoledne pádlování: \nDospělí: 4 km\nJunioři: 4 km\nDorostenci: 4 km\nŽáci: 4 km\nBci (věkově neomezeno; nutno zvážit klimatické podmínky): 2 km\nVeteráni (věkově neomezeno): 4 km\nostatní plavidla: 2 km \nOdpoledne krosový běh v okolí jezera. \nKeďže sú to prvé závody v sezóne a deti ešte nie sú rozjazdené tak sa zúčastnia deti\, ktoré už nemajú problém s jazdou na vode. Predbežná nominácia: \n\n\n\nVičar Josef\n\n\nOharek Patrik\n\n\nZahradníček Ondřej\n\n\nCigánková Klára\n\n\nCsoma Jakub\n\n\nHošek Votjěch\n\n\nNezhyba Miroslav\n\n\nNovák Jan\n\n\nVičar Mikuláš\n\n\nVrba František\n\n\n\nInfo: \n– zraz sobota 7.4. v 8:00 v lodenici\, doprava a strava individuálna \n– návrat  sobota o cca 17hod. \n– závodí sa na vode a v behu\, takže vhodné oblečenie.
URL:https://old.kanoeprerov.cz/event/novovesky-prespolak/
LOCATION:Ostrožská Nová Ves\, Nádražní 910\, Ostrožská Nová Ves\, 68722\, Česká republika
CATEGORIES:závody Velkomoravské ligy
ORGANIZER;CN="Odd%C3%ADl%20kanoistiky%20TJ%20Ostro%C5%BEsk%C3%A1%20Nov%C3%A1%20Ves%2C%20z.s.":MAILTO:canoe.onv@gmail.com
END:VEVENT
END:VCALENDAR