BEGIN:VCALENDAR
VERSION:2.0
PRODID:-// - ECPv6.0.6.2//NONSGML v1.0//EN
CALSCALE:GREGORIAN
METHOD:PUBLISH
X-ORIGINAL-URL:https://old.kanoeprerov.cz
X-WR-CALDESC:Akce na 
REFRESH-INTERVAL;VALUE=DURATION:PT1H
X-Robots-Tag:noindex
X-PUBLISHED-TTL:PT1H
BEGIN:VTIMEZONE
TZID:Europe/Prague
BEGIN:DAYLIGHT
TZOFFSETFROM:+0100
TZOFFSETTO:+0200
TZNAME:CEST
DTSTART:20180325T010000
END:DAYLIGHT
BEGIN:STANDARD
TZOFFSETFROM:+0200
TZOFFSETTO:+0100
TZNAME:CET
DTSTART:20181028T010000
END:STANDARD
BEGIN:DAYLIGHT
TZOFFSETFROM:+0100
TZOFFSETTO:+0200
TZNAME:CEST
DTSTART:20190331T010000
END:DAYLIGHT
BEGIN:STANDARD
TZOFFSETFROM:+0200
TZOFFSETTO:+0100
TZNAME:CET
DTSTART:20191027T010000
END:STANDARD
END:VTIMEZONE
BEGIN:VEVENT
DTSTART;VALUE=DATE:20191109
DTEND;VALUE=DATE:20191111
DTSTAMP:20260420T015025
CREATED:20190820T111340Z
LAST-MODIFIED:20190924T111459Z
UID:1141-1573257600-1573430399@old.kanoeprerov.cz
SUMMARY:testy SCM
DESCRIPTION:Druhé kolo výběru zůstává oproti předchozímu roku nezměněno\, požadovaný bodový zisk bude 270 bodů. \nMacháček Jan\nHermély Gabriela\nNeradil Vojtěch\nMacháček Vojtěch\nŠimek Albert\nKotek Petr\nNeradil Ondřej\nJanáčková Denisa
URL:https://old.kanoeprerov.cz/event/testy-scm/
LOCATION:sportovní centrum Nymburk\, Sportovní 1801\, Nymburk\, 28835\, Česká republika
CATEGORIES:SCM / RDJ
END:VEVENT
BEGIN:VEVENT
DTSTART;VALUE=DATE:20191026
DTEND;VALUE=DATE:20191103
DTSTAMP:20260420T015025
CREATED:20190924T111654Z
LAST-MODIFIED:20190924T111654Z
UID:1156-1572048000-1572739199@old.kanoeprerov.cz
SUMMARY:Soustředění RDJ Nymburk
DESCRIPTION:
URL:https://old.kanoeprerov.cz/event/soustredeni-rdj-nymburk/
LOCATION:sportovní centrum Nymburk\, Sportovní 1801\, Nymburk\, 28835\, Česká republika
CATEGORIES:SCM / RDJ
END:VEVENT
BEGIN:VEVENT
DTSTART;VALUE=DATE:20191005
DTEND;VALUE=DATE:20191007
DTSTAMP:20260420T015025
CREATED:20190924T110914Z
LAST-MODIFIED:20190924T110914Z
UID:1152-1570233600-1570406399@old.kanoeprerov.cz
SUMMARY:Puchar Śląska Katowice
DESCRIPTION:Poslední závod sezóny v polských Katowicích. \nNominace bude upřesněna
URL:https://old.kanoeprerov.cz/event/puchar-slaska-katowice/
CATEGORIES:ostatní závody
END:VEVENT
BEGIN:VEVENT
DTSTART;VALUE=DATE:20190928
DTEND;VALUE=DATE:20190930
DTSTAMP:20260420T015025
CREATED:20190924T110107Z
LAST-MODIFIED:20190924T110453Z
UID:1148-1569628800-1569801599@old.kanoeprerov.cz
SUMMARY:Velká cena Sparty
DESCRIPTION:Tradiční závody v hlavním městě v areálu pražské Sparty v Braníku\, ukončení domácí závodní sezóny \n\nviazanie lodí vo štvrtok po tréningu\ndoprava rozdelená na dve skupiny: 1. skupina mikrobus\, príspevok 200\,-Kč 2. staršia skupina vlakom\nubytovanie v telocvični\, karimatka + spacák\nstrava vlastná\, sobota obed a večera v podobe meníčok v reštaurácii.\nodjazd mikrobusu z lodenice v piatok o 15hod.\nnávrat v nedelu cca 20hod-21hod.\n\nNominácia benjamínci: Eliška Cigánková\, Veronika Příkopová\, Honza Nemčák\, Vítek Příkopa\, Váňa Adam\, Vičar Josef\, Zahradníček Ondrej\, Jančík Tomáš. \nStaršia skupina podľa záujmu.
URL:https://old.kanoeprerov.cz/event/velka-cena-sparty-2/
LOCATION:Sparta Praha\, U ledáren 80\, Praha 4 - Braník\, 14700
CATEGORIES:ostatní závody
END:VEVENT
BEGIN:VEVENT
DTSTART;VALUE=DATE:20190921
DTEND;VALUE=DATE:20190923
DTSTAMP:20260420T015025
CREATED:20181205T104622Z
LAST-MODIFIED:20190820T111128Z
UID:1033-1569024000-1569196799@old.kanoeprerov.cz
SUMMARY:5. závod ČP vytrvalost Most
DESCRIPTION:
URL:https://old.kanoeprerov.cz/event/5-zavod-cp-vytrvalost/
CATEGORIES:závody ČP
END:VEVENT
BEGIN:VEVENT
DTSTART;VALUE=DATE:20190913
DTEND;VALUE=DATE:20190916
DTSTAMP:20260420T015025
CREATED:20181205T104529Z
LAST-MODIFIED:20181205T104529Z
UID:1031-1568332800-1568591999@old.kanoeprerov.cz
SUMMARY:Olympic Hopes Bratislava
DESCRIPTION:
URL:https://old.kanoeprerov.cz/event/olympic-hopes-bratislava/
CATEGORIES:mezinárodní závody
END:VEVENT
BEGIN:VEVENT
DTSTART;VALUE=DATE:20190907
DTEND;VALUE=DATE:20190908
DTSTAMP:20260420T015025
CREATED:20190103T093719Z
LAST-MODIFIED:20190103T093719Z
UID:1069-1567814400-1567900799@old.kanoeprerov.cz
SUMMARY:Černožický kilometr
DESCRIPTION:
URL:https://old.kanoeprerov.cz/event/cernozicky-kilometr-2/
LOCATION:Černožice\, ulice k Loděnici\, Černožice\, 50304
CATEGORIES:ostatní závody
END:VEVENT
BEGIN:VEVENT
DTSTART;VALUE=DATE:20190831
DTEND;VALUE=DATE:20190902
DTSTAMP:20260420T015025
CREATED:20181205T104415Z
LAST-MODIFIED:20190820T111106Z
UID:1029-1567209600-1567382399@old.kanoeprerov.cz
SUMMARY:ČP Benjamínků MM Moravy
DESCRIPTION:ČP benjamínků v místě tradičních závodů v Ostrožské Nové Vsi \n7. závod Velkomoravské ligy \nodjezd v pátek 20.8. 15:30.
URL:https://old.kanoeprerov.cz/event/cp-benjaminku-mm-moravy/
LOCATION:Ostrožská Nová Ves\, Nádražní 910\, Ostrožská Nová Ves\, 68722\, Česká republika
CATEGORIES:závody ČP
END:VEVENT
BEGIN:VEVENT
DTSTART;VALUE=DATE:20190801
DTEND;VALUE=DATE:20190805
DTSTAMP:20260420T015025
CREATED:20181205T104229Z
LAST-MODIFIED:20181205T104229Z
UID:1027-1564617600-1564963199@old.kanoeprerov.cz
SUMMARY:MSJ + MS U23 Pitesti\, Rumunsko
DESCRIPTION:
URL:https://old.kanoeprerov.cz/event/msj-ms-u23-pitesti-rumunsko/
CATEGORIES:mezinárodní závody
END:VEVENT
BEGIN:VEVENT
DTSTART;VALUE=DATE:20190718
DTEND;VALUE=DATE:20190722
DTSTAMP:20260420T015025
CREATED:20181205T104130Z
LAST-MODIFIED:20181205T104130Z
UID:1025-1563408000-1563753599@old.kanoeprerov.cz
SUMMARY:4. závod ČP - MČR krátké tratě
DESCRIPTION:Vrchol celoročního úsilí!\nPro rodiče benjamínků: termíny dovolených plánovat až po MČR !!!
URL:https://old.kanoeprerov.cz/event/4-zavod-cp-mcr-kratke-trate/
LOCATION:Labe aréna Račice\, Račice 143\, Račice\, Ustecký\, 41108\, Česká republika
CATEGORIES:závody ČP
END:VEVENT
BEGIN:VEVENT
DTSTART;VALUE=DATE:20190711
DTEND;VALUE=DATE:20190715
DTSTAMP:20260420T015025
CREATED:20181205T103815Z
LAST-MODIFIED:20181205T103815Z
UID:1023-1562803200-1563148799@old.kanoeprerov.cz
SUMMARY:MEJ + ME U23
DESCRIPTION:
URL:https://old.kanoeprerov.cz/event/mej-me-u23/
LOCATION:Labe aréna Račice\, Račice 143\, Račice\, Ustecký\, 41108\, Česká republika
CATEGORIES:mezinárodní závody
END:VEVENT
BEGIN:VEVENT
DTSTART;VALUE=DATE:20190705
DTEND;VALUE=DATE:20190716
DTSTAMP:20260420T015025
CREATED:20190103T093512Z
LAST-MODIFIED:20190619T061415Z
UID:1067-1562284800-1563235199@old.kanoeprerov.cz
SUMMARY:letní oddílové soustředění
DESCRIPTION:Letní soustředění Otrokovice
URL:https://old.kanoeprerov.cz/event/letni-oddilove-soustredeni/
CATEGORIES:soustředění
END:VEVENT
BEGIN:VEVENT
DTSTART;VALUE=DATE:20190629
DTEND;VALUE=DATE:20190701
DTSTAMP:20260420T015025
CREATED:20190619T061654Z
LAST-MODIFIED:20190619T061654Z
UID:1123-1561766400-1561939199@old.kanoeprerov.cz
SUMMARY:Trenčianská regata
DESCRIPTION:Tradiční závody se začátkem prázdnin v osvědčené lokalitě v Trenčíně pod hradem Matúše Čáka
URL:https://old.kanoeprerov.cz/event/trencianska-regata/
LOCATION:Trenčín\, Mládežnícka 6777/6\, Trenčín\, 91101\, Slovensko
CATEGORIES:ostatní závody
END:VEVENT
BEGIN:VEVENT
DTSTART;VALUE=DATE:20190622
DTEND;VALUE=DATE:20190624
DTSTAMP:20260420T015025
CREATED:20190103T093026Z
LAST-MODIFIED:20190619T061231Z
UID:1065-1561161600-1561334399@old.kanoeprerov.cz
SUMMARY:Moravský pohár Kojetín
DESCRIPTION:7. závod Velkomoravské ligy v Kojetíně v náhradním termínu
URL:https://old.kanoeprerov.cz/event/moravsky-pohar-kojetin/
LOCATION:Kojetín\, Samota 1371\, Město\, Kojetín\, Olomoucký\, 75201
CATEGORIES:závody Velkomoravské ligy
END:VEVENT
BEGIN:VEVENT
DTSTART;VALUE=DATE:20190616
DTEND;VALUE=DATE:20190617
DTSTAMP:20260420T015025
CREATED:20190103T091322Z
LAST-MODIFIED:20190429T102021Z
UID:1049-1560643200-1560729599@old.kanoeprerov.cz
SUMMARY:Hranická 200ka
DESCRIPTION:7. závod Velkomoravské ligy
URL:https://old.kanoeprerov.cz/event/hranicka-200ka-2/
LOCATION:Hranice\, Trávnická 508\, Hranice\, 75301
CATEGORIES:závody Velkomoravské ligy
END:VEVENT
BEGIN:VEVENT
DTSTART;VALUE=DATE:20190615
DTEND;VALUE=DATE:20190616
DTSTAMP:20260420T015025
CREATED:20190103T091214Z
LAST-MODIFIED:20190429T102004Z
UID:1047-1560556800-1560643199@old.kanoeprerov.cz
SUMMARY:Přerovská 200ka
DESCRIPTION:6. závod Velkomoravské ligy pořádaný naším oddílem\, 37. ročník
URL:https://old.kanoeprerov.cz/event/prerovska-200ka/
CATEGORIES:závody Velkomoravské ligy
END:VEVENT
BEGIN:VEVENT
DTSTART;VALUE=DATE:20190607
DTEND;VALUE=DATE:20190610
DTSTAMP:20260420T015025
CREATED:20181205T103651Z
LAST-MODIFIED:20181205T103651Z
UID:1021-1559865600-1560124799@old.kanoeprerov.cz
SUMMARY:3. závod ČP\, NZ RDJ
DESCRIPTION:3. závod Českého poháru mládeže\nnominační závod RDJ (reprezentačního družstva juniorů)
URL:https://old.kanoeprerov.cz/event/3-zavod-cp-nz-rdj/
LOCATION:Labe aréna Račice\, Račice 143\, Račice\, Ustecký\, 41108\, Česká republika
CATEGORIES:závody ČP
END:VEVENT
BEGIN:VEVENT
DTSTART;VALUE=DATE:20190601
DTEND;VALUE=DATE:20190603
DTSTAMP:20260420T015025
CREATED:20190429T101923Z
LAST-MODIFIED:20190429T101923Z
UID:1088-1559347200-1559519999@old.kanoeprerov.cz
SUMMARY:Havel 6 Cup
DESCRIPTION:5. díl seriálu Velkomoravské ligy
URL:https://old.kanoeprerov.cz/event/havel-6-cup/
CATEGORIES:závody Velkomoravské ligy
END:VEVENT
BEGIN:VEVENT
DTSTART;VALUE=DATE:20190524
DTEND;VALUE=DATE:20190527
DTSTAMP:20260420T015025
CREATED:20181205T103315Z
LAST-MODIFIED:20190103T092904Z
UID:1017-1558656000-1558915199@old.kanoeprerov.cz
SUMMARY:Juniorská regata Piešťany / SVK
DESCRIPTION:
URL:https://old.kanoeprerov.cz/event/juniorska-regata-bratislava/
CATEGORIES:mezinárodní závody
END:VEVENT
BEGIN:VEVENT
DTSTART;VALUE=DATE:20190511
DTEND;VALUE=DATE:20190514
DTSTAMP:20260420T015025
CREATED:20181205T103007Z
LAST-MODIFIED:20181205T103151Z
UID:1013-1557532800-1557791999@old.kanoeprerov.cz
SUMMARY:2. závod ČP Račice\, NZ RDS
DESCRIPTION:2. závod Českého poháru mládeže\nnominační závod RDS (reprezentačního družstva seniorů)
URL:https://old.kanoeprerov.cz/event/ii-zavod-cp-racice/
LOCATION:Labe aréna Račice\, Račice 143\, Račice\, Ustecký\, 41108\, Česká republika
CATEGORIES:závody ČP
END:VEVENT
BEGIN:VEVENT
DTSTART;VALUE=DATE:20190427
DTEND;VALUE=DATE:20190429
DTSTAMP:20260420T015025
CREATED:20181205T102720Z
LAST-MODIFIED:20190103T092752Z
UID:1011-1556323200-1556495999@old.kanoeprerov.cz
SUMMARY:1. závod ČP - MČR 5km mládež\, Týn nad Vltavou
DESCRIPTION:
URL:https://old.kanoeprerov.cz/event/1-zavod-cp-mcr-5km-mladez/
CATEGORIES:závody ČP
END:VEVENT
BEGIN:VEVENT
DTSTART;VALUE=DATE:20190420
DTEND;VALUE=DATE:20190421
DTSTAMP:20260420T015025
CREATED:20190315T073444Z
LAST-MODIFIED:20190315T073504Z
UID:1078-1555718400-1555804799@old.kanoeprerov.cz
SUMMARY:Brněnská pětka
DESCRIPTION:3. závod Velkomoravské ligy\, premiéra závodů v Brně na řece Svratce \nhttps://www.kanoistikabrno.cz/brnenska-petka#brnenska-petka
URL:https://old.kanoeprerov.cz/event/brnenska-petka/
CATEGORIES:závody Velkomoravské ligy
END:VEVENT
BEGIN:VEVENT
DTSTART;VALUE=DATE:20190413
DTEND;VALUE=DATE:20190414
DTSTAMP:20260420T015025
CREATED:20181210T114332Z
LAST-MODIFIED:20190103T090951Z
UID:1035-1555113600-1555199999@old.kanoeprerov.cz
SUMMARY:Dlouhé tratě na Moravě
DESCRIPTION:2. závod Velkomoravské ligy
URL:https://old.kanoeprerov.cz/event/dlouhe-trate-na-morave/
LOCATION:Kojetín\, Samota 1371\, Město\, Kojetín\, Olomoucký\, 75201
CATEGORIES:závody Velkomoravské ligy
END:VEVENT
BEGIN:VEVENT
DTSTART;VALUE=DATE:20190406
DTEND;VALUE=DATE:20190407
DTSTAMP:20260420T015025
CREATED:20190103T090846Z
LAST-MODIFIED:20190103T090846Z
UID:1044-1554508800-1554595199@old.kanoeprerov.cz
SUMMARY:Novoveský přespolák
DESCRIPTION:Start do sezóny 2019.\n1. díl Velkomoravské ligy
URL:https://old.kanoeprerov.cz/event/novovesky-prespolak-2/
LOCATION:Ostrožská Nová Ves\, Nádražní 910\, Ostrožská Nová Ves\, 68722\, Česká republika
CATEGORIES:závody Velkomoravské ligy
END:VEVENT
BEGIN:VEVENT
DTSTART;VALUE=DATE:20190328
DTEND;VALUE=DATE:20190407
DTSTAMP:20260420T015025
CREATED:20190103T092501Z
LAST-MODIFIED:20190315T072651Z
UID:1059-1553731200-1554595199@old.kanoeprerov.cz
SUMMARY:Soustředění Rogotin / CRO
DESCRIPTION:Vybraní jedinci z výkonnostní skupiny
URL:https://old.kanoeprerov.cz/event/soustredeni-rogotin-cro/
LOCATION:Ploče – Rogotin / HR\, Rogotin\, Rogotin\, 20343\, Chorvatsko
CATEGORIES:soustředění
END:VEVENT
BEGIN:VEVENT
DTSTART;VALUE=DATE:20190301
DTEND;VALUE=DATE:20190313
DTSTAMP:20260420T015025
CREATED:20190103T092109Z
LAST-MODIFIED:20190103T092532Z
UID:1057-1551398400-1552435199@old.kanoeprerov.cz
SUMMARY:Soustředění SCM/RDJ Peschiera del Garda ITA
DESCRIPTION:Večerka\nHermély\nMacháček J.\nMacháček V.\nNeradil V.\nPřibyl
URL:https://old.kanoeprerov.cz/event/soustredeni-scm-rdj-peschiera-del-garda-ita/
CATEGORIES:SCM / RDJ
END:VEVENT
BEGIN:VEVENT
DTSTART;VALUE=DATE:20190216
DTEND;VALUE=DATE:20190224
DTSTAMP:20260420T015025
CREATED:20181205T102158Z
LAST-MODIFIED:20181205T102223Z
UID:1007-1550275200-1550966399@old.kanoeprerov.cz
SUMMARY:soustředění PRADĚD 2019
DESCRIPTION:Zimní oddílové soustředění v tradiční lokalitě na chatě Kurzovní (pod Pradědem).
URL:https://old.kanoeprerov.cz/event/praded-2019/
LOCATION:sporthotel Kurzovní
CATEGORIES:soustředění
END:VEVENT
BEGIN:VEVENT
DTSTART;VALUE=DATE:20190126
DTEND;VALUE=DATE:20190203
DTSTAMP:20260420T015025
CREATED:20190103T091912Z
LAST-MODIFIED:20190103T091912Z
UID:1055-1548460800-1549151999@old.kanoeprerov.cz
SUMMARY:Soustředění SCM/RDJ Žalý - Benecko I.
DESCRIPTION:Večerka\nHermély\nMacháček J.\nMacháček V.\nNeradil V.\nPřibyl
URL:https://old.kanoeprerov.cz/event/soustredeni-scm-rdj-zaly-benecko-i/
CATEGORIES:SCM / RDJ
END:VEVENT
BEGIN:VEVENT
DTSTART;VALUE=DATE:20190126
DTEND;VALUE=DATE:20190127
DTSTAMP:20260420T015025
CREATED:20190103T091622Z
LAST-MODIFIED:20190103T091808Z
UID:1051-1548460800-1548547199@old.kanoeprerov.cz
SUMMARY:Obecné testy RDJ Nymburk
DESCRIPTION:Večerka\nHermély\nMacháček J.\nMacháček V.\nNeradil V.\nPřibyl
URL:https://old.kanoeprerov.cz/event/obecne-testy-rdj-nymburk/
LOCATION:sportovní centrum Nymburk\, Sportovní 1801\, Nymburk\, 28835\, Česká republika
CATEGORIES:SCM / RDJ
END:VEVENT
BEGIN:VEVENT
DTSTART;VALUE=DATE:20181201
DTEND;VALUE=DATE:20181209
DTSTAMP:20260420T015025
CREATED:20180403T101522Z
LAST-MODIFIED:20180403T101522Z
UID:764-1543622400-1544313599@old.kanoeprerov.cz
SUMMARY:soustředění SCM/RDJ / ITA
DESCRIPTION:
URL:https://old.kanoeprerov.cz/event/soustredeni-scm-rdj-ita-2/
LOCATION:Livigno\, Livigno\, 23030\, Itálie
CATEGORIES:SCM / RDJ
END:VEVENT
END:VCALENDAR